BEGIN:VCALENDAR
VERSION:2.0
PRODID:-//wp-events-plugin.com//7.2.3.1//EN
TZID:Europe/Budapest
X-WR-TIMEZONE:Europe/Budapest
BEGIN:VEVENT
UID:24@refliter.hu
DTSTART;TZID=Europe/Budapest:20260307T160000
DTEND;TZID=Europe/Budapest:20260307T180000
DTSTAMP:20260215T162740Z
URL:https://www.refliter.hu/esemenyek/korzeti-imaalkalom
SUMMARY:Körzeti imaalkalom
DESCRIPTION:
ATTACH;FMTTYPE=image/jpeg:https://mlx9teaiko4t.i.optimole.com/cb:G3C2.169/
 w:1920/h:1047/q:mauto/f:best/https://www.refliter.hu/wp-content/uploads/20
 26/02/kozossegi-alkalom.webp
LOCATION:Felsőörs – Gáty Ferenc tér 2.\, Felsőörs\, 8227
X-APPLE-STRUCTURED-LOCATION;VALUE=URI;X-ADDRESS=Gáty Ferenc tér 2.\, Fels
 őörs\, 8227\, Magyarország;X-APPLE-RADIUS=100;X-TITLE=Felsőörs:geo:0,
 0
END:VEVENT
BEGIN:VTIMEZONE
TZID:Europe/Budapest
X-LIC-LOCATION:Europe/Budapest
BEGIN:STANDARD
DTSTART:20251026T020000
TZOFFSETFROM:+0200
TZOFFSETTO:+0100
TZNAME:CET
END:STANDARD
END:VTIMEZONE
END:VCALENDAR